BEGIN:VCALENDAR
VERSION:2.0
PRODID:-//elias-ai - ECPv6.15.20//NONSGML v1.0//EN
CALSCALE:GREGORIAN
METHOD:PUBLISH
X-WR-CALNAME:elias-ai
X-ORIGINAL-URL:https://elias-ai.eu
X-WR-CALDESC:Events for elias-ai
REFRESH-INTERVAL;VALUE=DURATION:PT1H
X-Robots-Tag:noindex
X-PUBLISHED-TTL:PT1H
BEGIN:VTIMEZONE
TZID:Europe/Rome
BEGIN:DAYLIGHT
TZOFFSETFROM:+0100
TZOFFSETTO:+0200
TZNAME:CEST
DTSTART:20230326T010000
END:DAYLIGHT
BEGIN:STANDARD
TZOFFSETFROM:+0200
TZOFFSETTO:+0100
TZNAME:CET
DTSTART:20231029T010000
END:STANDARD
BEGIN:DAYLIGHT
TZOFFSETFROM:+0100
TZOFFSETTO:+0200
TZNAME:CEST
DTSTART:20240331T010000
END:DAYLIGHT
BEGIN:STANDARD
TZOFFSETFROM:+0200
TZOFFSETTO:+0100
TZNAME:CET
DTSTART:20241027T010000
END:STANDARD
BEGIN:DAYLIGHT
TZOFFSETFROM:+0100
TZOFFSETTO:+0200
TZNAME:CEST
DTSTART:20250330T010000
END:DAYLIGHT
BEGIN:STANDARD
TZOFFSETFROM:+0200
TZOFFSETTO:+0100
TZNAME:CET
DTSTART:20251026T010000
END:STANDARD
END:VTIMEZONE
BEGIN:VEVENT
DTSTART;TZID=Europe/Rome:20240130T170000
DTEND;TZID=Europe/Rome:20240130T180000
DTSTAMP:20260421T204804
CREATED:20240122T141121Z
LAST-MODIFIED:20240904T163829Z
UID:2104-1706634000-1706637600@elias-ai.eu
SUMMARY:AI Excellence Lecture on Deep learning and Process Understanding for Data-Driven Earth System Science
DESCRIPTION:Abstract: For a better understanding of the Earth system we need a stronger integration of observations and (mechanistic) models. Classical model-data integration approaches start with a model structure and try to estimate states or parameters via data assimilation and inverse modelling\, respectively. Sometimes\, several model structures are employed and evaluated\, e.g. in Bayesian model averaging\, but still parametric model structures are assumed. Recently\, Reichstein et al. (2019) proposed a fusion of machine learning and mechanistic modelling approaches into so-called hybrid modelling. Ideally\, this combines scientific consistency with the versatility of data driven approaches and is expected to allow for better predictions and better understanding of the system\, e.g. by inferring unobserved variables. This talk will elaborate on developments of this concept and illustrate its promise but also challenges with examples on biosphere-atmosphere exchange\, and carbon and water cycles from the ecosystem to the global scale. \nLecturer: Prof. Dr. Markus Reichstein  is Director of the Biogeochemical Integration Department at the Max-Planck-Institute for Biogeochemistry. His main research interests revolve around the response and feedback of ecosystems (vegetation and soils) to climatic variability with an Earth system perspective. Of specific interest is the interplay of climate extremes with ecosystem and societal resilience. He is addressing these topics with a combination of artificial intelligence and system modelling approaches to exploit the wealth of experimental\, ground- and satellite-based Earth observations. \nAbout AIDA: The four ICT-48 networks (AI4Media\, ELISE\, HumanE-AI NET\, TAILOR) and the VISION project joined forces and\, under the joint initiative of VISION and AI4Media\, founded a new joint instrument to support a world-level AI education and research programme. \nThe International AI Doctoral Academy (AIDA) has been created for offering access to knowledge and expertise and attracting PhD talents in Europe. AIDA offers free\, top-notch AI Excellence Lecture Series\, featuring senior experts and promising juniors\, encouraging active participation\, and providing easy access through multiple channels \n🔗 For more information: Artificial Intelligence Doctoral Academy – AI Excellence Lecture Series \n\n			\n			\n				\n				\n				\n				\n			\n				\n				\n				\n				\n				\n				\n				\n				\n				\n				\n				\n\n\n    \n    \n    \n    Event Footer\n    \n\n\n\n\n\n    \n        \n            Details\n            Date: January 30  \n            Time: 17:00 - 18:00  \n            Event Category: Lectures & Seminars  \n            \n                \n                    Add to Calendar\n                \n            \n        \n        \n            Website\n            \n                Deep Learning and Process Understanding for Data-Driven Earth System Science\n              \n        \n        \n            Venue\n            Location: ONLINE  \n        \n        \n            Organiser\n            AIDA – Artificial Intelligence Doctoral Academy  \n            View Organiser Website  \n        \n    \n    \n        © 2024 AIDA – Artificial Intelligence Doctoral Academy. All rights reserved.
URL:https://elias-ai.eu/event/ai-excellence-lecture-on-deep-learning-and-process-understanding-for-data-driven-earth-system-science/
LOCATION:ONLINE
CATEGORIES:Lectures & Seminars
ATTACH;FMTTYPE=image/png:https://elias-ai.eu/wp-content/uploads/2024/02/7-1.png
END:VEVENT
END:VCALENDAR