BEGIN:VCALENDAR
VERSION:2.0
PRODID:-//elias-ai - ECPv6.15.20//NONSGML v1.0//EN
CALSCALE:GREGORIAN
METHOD:PUBLISH
X-WR-CALNAME:elias-ai
X-ORIGINAL-URL:https://elias-ai.eu
X-WR-CALDESC:Events for elias-ai
REFRESH-INTERVAL;VALUE=DURATION:PT1H
X-Robots-Tag:noindex
X-PUBLISHED-TTL:PT1H
BEGIN:VTIMEZONE
TZID:Europe/Rome
BEGIN:DAYLIGHT
TZOFFSETFROM:+0100
TZOFFSETTO:+0200
TZNAME:CEST
DTSTART:20230326T010000
END:DAYLIGHT
BEGIN:STANDARD
TZOFFSETFROM:+0200
TZOFFSETTO:+0100
TZNAME:CET
DTSTART:20231029T010000
END:STANDARD
BEGIN:DAYLIGHT
TZOFFSETFROM:+0100
TZOFFSETTO:+0200
TZNAME:CEST
DTSTART:20240331T010000
END:DAYLIGHT
BEGIN:STANDARD
TZOFFSETFROM:+0200
TZOFFSETTO:+0100
TZNAME:CET
DTSTART:20241027T010000
END:STANDARD
BEGIN:DAYLIGHT
TZOFFSETFROM:+0100
TZOFFSETTO:+0200
TZNAME:CEST
DTSTART:20250330T010000
END:DAYLIGHT
BEGIN:STANDARD
TZOFFSETFROM:+0200
TZOFFSETTO:+0100
TZNAME:CET
DTSTART:20251026T010000
END:STANDARD
END:VTIMEZONE
BEGIN:VEVENT
DTSTART;TZID=Europe/Rome:20240610T080000
DTEND;TZID=Europe/Rome:20240614T170000
DTSTAMP:20260421T144621
CREATED:20240108T103950Z
LAST-MODIFIED:20240905T130432Z
UID:1355-1718006400-1718384400@elias-ai.eu
SUMMARY:Hybrid Human-Artificial Intelligence Conference - #HHAI2024
DESCRIPTION:HHAI 2024 Conference\n    \n    \n\n\n                Join us at the forefront of innovation! The Hybrid Human-Artificial Intelligence (HHAI) Conference Series returns to Malmö\, Sweden from June 10-14\, 2024 for its third edition\, bringing together the brightest minds in AI and human collaboration.  \n			\n			\n				\n				\n				\n				\n			\n				\n				\n				\n				\n				\n				\n				\n				\n				\n				\n				About HHAI\nExplore the dynamic world where AI systems enhance and amplify human intelligence. The HHAI conference fosters synergy between humans and machines\, emphasizing adaptability\, collaboration\, and ethical responsibility. Our mission is to shape intelligent systems that complement human strengths\, addressing critical social\, ethical\, and legal issues. \nField Collaboration\nHHAI invites bold\, groundbreaking approaches driven by the latest AI advancements. We encourage collaboration across diverse fields\, including AI\, Human-Computer Interaction\, social sciences\, philosophy\, and ethics. Scholars are welcome to submit original research and visionary ideas on Hybrid Human-Artificial Intelligence. \n🗓️ Important Dates\n\nAbstract Submission: February 2\, 2024\nPaper Submission: February 9\, 2024\nAcceptance Notification: March 29\, 2024\nCamera-Ready Version: April 12\, 2024\nConference Dates: June 10-14\, 2024\n\nWhy Attend HHAI 2024?\nExplore the future of AI and human collaboration through cutting-edge research and innovative ideas. We welcome both established and emerging scholars\, encouraging a rich exchange of perspectives and in-progress works. \n			\n				\n				\n				\n				\n				  \n🔗 Submission Details: Visit HHAI 2024 Submission for guidelines. \n#HHAI2024 #AIConference #CollaborativeInnovation \n  \n			\n				\n				\n				\n				\n				\n\n\n    \n    \n    \n    Event Footer\n    \n\n\n\n\n\n    \n        \n        \n            Details\n            Start: June 10 @ 8:00  \n            End: June 14 @ 17:00  \n            Event Category: Conferences  \n            Event Tags: artificialintelligence\, Opportunities  \n            Website\n            Conference Website  \n            Organiser\n            Malmö University  \n            \n                \n                    Add to Calendar\n                \n            \n        \n\n        \n        \n            Venue\n            Location: Malmö University – Niagara  \n            Nordenskiöldsgatan 1\, Malmo\, 211 19 Sweden  \n            \n            \n                \n                \n            \n            View Venue Website  \n        \n    \n\n    \n        © 2024 Malmö University. All rights reserved.
URL:https://elias-ai.eu/event/hybrid-human-artificial-intelligence-conference-hhai2024/
LOCATION:Malmö University – Niagara\, Nordenskiöldsgatan 1\,\, Malmo\, 211 19\, Sweden
CATEGORIES:Conferences
ATTACH;FMTTYPE=image/png:https://elias-ai.eu/wp-content/uploads/2024/01/6.png
END:VEVENT
BEGIN:VEVENT
DTSTART;TZID=Europe/Rome:20240611T080000
DTEND;TZID=Europe/Rome:20240613T170000
DTSTAMP:20260421T144621
CREATED:20240517T082934Z
LAST-MODIFIED:20240905T130642Z
UID:3344-1718092800-1718298000@elias-ai.eu
SUMMARY:ELLIS Summer School on Machine Learning for Healthcare and Biology | 11-13 June 2024
DESCRIPTION:Following the success of last year\, Manchester’s European Laboratory for Learning and Intelligent Systems (ELLIS) unit are hosting their second Summer School during 11-13 June 2024\, which will bring participants up-to-speed on the latest methods and technologies in machine learning with a focus on healthcare and biology. The school includes a set of Lectures by renowned researchers at the intersection of ML and Healthcare and Biology\, and with an excellent track record of delivering educational content. \nSpeaking at this year’s event are: \n\nMihaela van der Schaar (University of Cambridge)\nST John (Finnish Center for Artificial Intelligence\, Aalto University) \nCheng Zhang (Microsoft Research)\nJose-Miguel Hernández-Lobato (University of Cambridge)\nDanielle Belgrave (GSK)\nAlex Frangi (The University of Manchester)\nFabio De Sousa-Riberio (Imperial College London)\nDennis Wang (Imperial College London and A*STAR Singapore Institute for Clinical Sciences)\nTom Diethe (AstraZeneca)\nHananeh Aliee (Sanger Institute)\nLuisa Cutillo (University of Leeds)\nJulien Gagneur (Technical University of Munich)\n\n\n\n\n\n\n\n\n\n\n\n\n\n			\n			\n				\n				\n				\n				\n				\n				\n				\n				\n				\n				\n				\n					\n				\n				\n			\n			\n				\n				\n				\n				\n			\n				\n				\n				\n				\n				\n				\n				Check the full programme here\n			\n			\n				\n				\n				\n				\n				\n				Book your tickets now\n			\n			\n				\n				\n				\n				\n			\n				\n				\n				\n				\n				\n				\n				\n				\n				\n				\n				\n\n\n\n\n\n\n\n\n\n\nELLIS Summer School Scholarship\nELLIS Manchester is committed to fostering diversity and inclusive in research and acknowledges the financial challenges faced by researchers from economically disadvantaged backgrounds. To address this issue\, we are pleased to announce our ‘ELLIS Manchester Development Scholarship’\, aimed at providing financial assistance to applicants facing economic hardships during their research pursuits. \nApplicants must be currently enrolled in a PhD program or PDRAs in the early stages of their careers. Financial need must be demonstrated and should also demonstrate a commitment to contributing to diversity and inclusion in their respective fields. \nIf you believe you should be considered\, please email ellis@manchester.ac.uk\, including a brief summary to tell us about you\, your research and to demonstrate the need of support to attend the ELLIS summer school. The selection will made by the ELLIS Manchester Steering Group. As this funding is limited\, we recommend you apply as early as you can. \n\n\n\n\n\n\n\n\n\n\n\n\n			\n			\n				\n				\n				\n				\n			\n				\n				\n			\n				\n				\n				\n				\n				\n				\n				\n				\n				\n				\n				\n				\n				\n				\n				\n				\n				\n				\n\n\n\n\n\n\n\n\n\n\nELLIS Manchester Summer School 2023 \nTo find out more about what our summer schools are like\, you can view full details of our 2023 summer school here and view the 2023 talks via our youtube playlist below. \n\n\n\n\n\n\n\n\n\n\n\n\n			\n				\n				\n				\n				\n				\n				\n			\n				\n				\n				\n				\n				\n\n\n    \n    \n    \n    Event Footer\n    \n\n\n\n\n\n    \n        \n        \n            Details\n            Start: June 11 @ 8:00  \n            End: June 13 @ 17:00  \n            Website\n            Event Website  \n            Organiser\n            ELLIS Unit Manchester  \n            View Organiser Website  \n            \n                \n                    Add to Calendar\n                \n            \n        \n\n        \n        \n            Venue\n            Location: The University of Manchester  \n            Oxford Road\, Manchester\, M13 9PL United Kingdom  \n            \n            \n                \n                \n            \n            View Venue Website  \n        \n    \n\n    \n        © 2024 The University of Manchester. All rights reserved.
URL:https://elias-ai.eu/event/ellis-summer-school-on-machine-learning-for-healthcare-and-biology-11-13-june-2024/
LOCATION:The University of Manchester\, Oxford Road\, Manchester\, Manchester\, M13 9PL\, United Kingdom
ATTACH;FMTTYPE=image/png:https://elias-ai.eu/wp-content/uploads/2024/04/2-2.png
END:VEVENT
END:VCALENDAR