BEGIN:VCALENDAR
VERSION:2.0
PRODID:-//elias-ai - ECPv6.15.20//NONSGML v1.0//EN
CALSCALE:GREGORIAN
METHOD:PUBLISH
X-ORIGINAL-URL:https://elias-ai.eu
X-WR-CALDESC:Events for elias-ai
REFRESH-INTERVAL;VALUE=DURATION:PT1H
X-Robots-Tag:noindex
X-PUBLISHED-TTL:PT1H
BEGIN:VTIMEZONE
TZID:Europe/Rome
BEGIN:DAYLIGHT
TZOFFSETFROM:+0100
TZOFFSETTO:+0200
TZNAME:CEST
DTSTART:20250330T010000
END:DAYLIGHT
BEGIN:STANDARD
TZOFFSETFROM:+0200
TZOFFSETTO:+0100
TZNAME:CET
DTSTART:20251026T010000
END:STANDARD
BEGIN:DAYLIGHT
TZOFFSETFROM:+0100
TZOFFSETTO:+0200
TZNAME:CEST
DTSTART:20260329T010000
END:DAYLIGHT
BEGIN:STANDARD
TZOFFSETFROM:+0200
TZOFFSETTO:+0100
TZNAME:CET
DTSTART:20261025T010000
END:STANDARD
BEGIN:DAYLIGHT
TZOFFSETFROM:+0100
TZOFFSETTO:+0200
TZNAME:CEST
DTSTART:20270328T010000
END:DAYLIGHT
BEGIN:STANDARD
TZOFFSETFROM:+0200
TZOFFSETTO:+0100
TZNAME:CET
DTSTART:20271031T010000
END:STANDARD
END:VTIMEZONE
BEGIN:VEVENT
DTSTART;TZID=Europe/Rome:20260619T080000
DTEND;TZID=Europe/Rome:20260619T170000
DTSTAMP:20260423T184359
CREATED:20260323T084936Z
LAST-MODIFIED:20260422T162602Z
UID:11144-1781856000-1781888400@elias-ai.eu
SUMMARY:IDEASHACK 2026: Bridging AI Research and Industry
DESCRIPTION:IDEASHACK 2026 is a Europe-wide sciencepreneurship hackathon organised by the IDEAS Research Institute within the Horizon Europe project ELIAS – European Lighthouse of AI for Sustainability. The event brings together researchers\, innovators\, and industry leaders to co-create solutions that strengthen collaboration between science and business.  \nParticipants work in interdisciplinary teams to design concepts for platforms that map scientific expertise\, research output\, and implementation potential. The goal is to accelerate knowledge transfer and identify opportunities where academic research can translate into real-world applications. The hackathon runs in a hybrid format\, welcoming teams from across Europe online and culminating in a Demo Day and Grand Final in Warsaw. \n			\n			\n				\n				\n				\n				\n			\n				\n				\n				\n				\n				\n				\n				\n				\n				\n				\n				\n					p\n					\n						Key Facts\n						\nFormat: Hybrid\nTeams: Interdisciplinary\, Europe-wide\nFocus: AI\, research valorisation\, science–industry collaboration\nOrganiser: IDEAS Research Institute\nProject: ELIAS (Horizon Europe)\n\n					\n				\n			\n			\n				\n				\n				\n				\n				\n				\n				\n				\n				\n				\n					\n					\n						Key Dates\n						23 March – 20 April — Team registration \n24 April — Online kick-off \n8 May — Project submission deadline \n15 May — Finalists announced \n19 June — Demo Day & Grand Final (Warsaw) \n					\n				\n			\n				\n				\n				\n				\n				\n					\n					\n						Key Dates\n						23 March – 20 April — Team registration \n24 April — Online kick-off \n8 May — Project submission deadline \n15 May — Finalists announced \n19 June — Demo Day & Grand Final (Warsaw) \n					\n				\n			\n			\n				\n				\n				\n				\n			\n				\n				\n				\n				\n				\n				\n				\n				\n				\n				\n				Prizes\n			\n			\n				\n				\n				\n				\n			\n				\n				\n				\n				\n				\n				\n				\n				\n				\n				\n				\n					\n					\n						1st Place\n						€5\,000 \n					\n				\n			\n			\n				\n				\n				\n				\n				\n				\n				\n				\n				\n				\n					\n					\n						2nd Place\n						€4\,000 \n					\n				\n			\n			\n				\n				\n				\n				\n				\n				\n				\n				\n				\n				\n					\n					\n						3rd Place\n						€3\,000 \n					\n				\n			\n			\n				\n				\n				\n				\n			\n				\n				\n				\n				\n				\n				\n				\n				\n				\n				\n				The first Polish edition of this hackathon took place in November 2024\, bringing together interdisciplinary teams working at the intersection of AI\, research\, and innovation ecosystems. \nIDEASHACK 2026 offers an opportunity to collaborate across disciplines\, experiment with new ideas\, and contribute to building tools that improve how research and innovation interact across Europe. \nRead about the previous edition: IDEAHACK 2024: Bridging Academia\, Business\, and Investors at Poland’s First Sciencepreneurship Hackathon \n			\n			\n				\n				\n				\n				\n			\n				\n				\n				\n				\n				\n				\n				\n				\n				\n				\n				Ready to build the next generation of science–industry collaboration tools?\n				\n			\n				\n				\n				\n				\n				\n				\n				\n					\n				\n					Learn More \n					\n				\n				\n				\n					Join the event\n				\n			\n				\n			\n			\n				\n				\n				\n				\n			\n				\n				\n				\n				\n				\n				\n				\n				\n				\n				\n				\n\n\n\n\n \n\n\n\n\n \n\n\n\n\n \n\n\n\n\n \n\n\n\n\n\n\n\n\n\n\n\n\n\n\n\n\n\n\n\n\n\n\nDetails\n\n\nDate: 16-17 November 2024\n\n\nLocation: IDEAS NCBR\, Chmielna 69\, Varso Tower\, Warsaw\, Poland\n\n\n\n\n\n\n\n\n\n\nVenue\n\n\nIDEAS NCBR\n\n\nChmielna 69\, Varso Tower\n\n\nWarsaw\, Poland\n\n\n\n\n\n                         src="https://www.google.com/maps/embed?pb=!1m18!1m12!1m3!1d2443.0133982198264!2d20.99601931578328!3d52.22977097975901!2m3!1f0!2f0!3f0!3m2!1i1024!2i768!4f13.1!3m3!1m2!1s0x471ecc7f9a759fdd%3A0x833edbd6fc7e8b89!2sVarso%20Tower!5e0!3m2!1sen!2spl!4v1696602463492" \n                        allowfullscreen="" \n                        loading="lazy" \n                        referrerpolicy="no-referrer-when-downgrade">\n                \n\n\n\n\n\n\n\n\n\n\n\n\n\n © 2024 Event Organisation. All rights reserved.
URL:https://elias-ai.eu/event/ideashack-2026-bridging-ai-research-and-industry/
CATEGORIES:Hackathon
ATTACH;FMTTYPE=image/png:https://elias-ai.eu/wp-content/uploads/2026/03/IDEASHACK_poprawka_belka-2303.png
END:VEVENT
END:VCALENDAR