BEGIN:VCALENDAR
VERSION:2.0
PRODID:-//elias-ai - ECPv6.15.20//NONSGML v1.0//EN
CALSCALE:GREGORIAN
METHOD:PUBLISH
X-WR-CALNAME:elias-ai
X-ORIGINAL-URL:https://elias-ai.eu
X-WR-CALDESC:Events for elias-ai
REFRESH-INTERVAL;VALUE=DURATION:PT1H
X-Robots-Tag:noindex
X-PUBLISHED-TTL:PT1H
BEGIN:VTIMEZONE
TZID:Europe/Rome
BEGIN:DAYLIGHT
TZOFFSETFROM:+0100
TZOFFSETTO:+0200
TZNAME:CEST
DTSTART:20230326T010000
END:DAYLIGHT
BEGIN:STANDARD
TZOFFSETFROM:+0200
TZOFFSETTO:+0100
TZNAME:CET
DTSTART:20231029T010000
END:STANDARD
BEGIN:DAYLIGHT
TZOFFSETFROM:+0100
TZOFFSETTO:+0200
TZNAME:CEST
DTSTART:20240331T010000
END:DAYLIGHT
BEGIN:STANDARD
TZOFFSETFROM:+0200
TZOFFSETTO:+0100
TZNAME:CET
DTSTART:20241027T010000
END:STANDARD
BEGIN:DAYLIGHT
TZOFFSETFROM:+0100
TZOFFSETTO:+0200
TZNAME:CEST
DTSTART:20250330T010000
END:DAYLIGHT
BEGIN:STANDARD
TZOFFSETFROM:+0200
TZOFFSETTO:+0100
TZNAME:CET
DTSTART:20251026T010000
END:STANDARD
END:VTIMEZONE
BEGIN:VEVENT
DTSTART;TZID=Europe/Rome:20240612T090000
DTEND;TZID=Europe/Rome:20240612T170000
DTSTAMP:20260423T233134
CREATED:20240417T103851Z
LAST-MODIFIED:20240905T123736Z
UID:3198-1718182800-1718211600@elias-ai.eu
SUMMARY:#CVTS2024 - Computer Vision Trento Symposium | 12 June 2024
DESCRIPTION:About\n			\n				\n				\n				\n				\n				\n\n\n\n\n\n\n\n\n\nThe Computer Vision Trento Symposium (CVTS) is organised to bring together scientists\, researchers\, students\, practitioners\, and enthusiasts who share an interest in computer vision. This one-day event will showcase an invited keynote and series of oral and poster presentations. This year\, 11 presentations will be featured on works that will be presented at IEEE Computer Vision and Pattern Recognition 2024 conference. CVTS will be held on Wednesday 12th June 2024. There will also be a link to join remotely. Free registration is required to attend in person.\n\n\n\n\n\n\n\n\n\n\n\n			\n			\n				\n				\n				\n				\n				\n				\n				\n				\n				\n				\n				\n					\n				\n				\n			\n			\n				\n				\n				\n				\n			\n				\n				\n				\n				\n				\n				\n				\n				\n				\n				\n				Programme\n			\n				\n				\n				\n				\n				\n\n\n    \n    \n    Event Programme\n    \n    \n\n\n    \n    \n        \n            \n                Time\n                Event\n                Speakers\n            \n        \n        \n            \n                9:00\n                Welcome\n                Fabio Poiesi\n            \n            \n                9:10\n                Keynote: Semantic 3D reconstruction and understanding from images\n                Alessio Del Bue\n            \n            \n                10:00\n                Open-vocabulary object 6D pose estimation\n                Jaime Corsetti\, Davide Boscaini\, Changjae Oh\, Andrea Cavallaro\, Fabio Poiesi\n            \n            \n                10:20\n                Geometrically-driven aggregation for zero-shot 3D point cloud understanding\n                Guofeng Mei\, Luigi Riz\, Yiming Wang\, Fabio Poiesi\n            \n            \n                10:40\n                Point cloud pre-training with diffusion models\n                Xiao Zheng\, Xiaoshui Huang\, Guofeng Mei\, Yuenan Hou\, Zhaoyang Lyu\, Bo Dai\, Wanli Ouyang\, Yongshun Gong\n            \n            \n                11:00\n                Coffee break\n                \n            \n            \n                11:20\n                DiffAssemble: A unified graph-diffusion model for 2D and 3D reassembly\n                Gianluca Scarpellini\, Stefano Fiorini\, Francesco Giuliari\, Pietro Morerio\, Alessio Del Bue\n            \n            \n                11:40\n                PAIR Diffusion: A comprehensive multimodal object-level image editor\n                Vidit Goel\, Elia Peruzzo\, Yifan Jiang\, Dejia Xu\, Xingqian Xu\, Nicu Sebe\, Trevor Darrell\, Zhangyang Wang\, Humphrey Shi\n            \n            \n                12:00\n                Test-time zero-shot temporal action localization\n                Benedetta Liberatori\, Alessandro Conti\, Paolo Rota\, Yiming Wang\, Elisa Ricci\n            \n            \n                12:20\n                SHiNe: Semantic hierarchy nexus for open-vocabulary object detection\n                Mingxuan Liu\, Tyler Hayes\, Elisa Ricci\, Gabriela Csurka\, Riccardo Volpi\n            \n            \n                12:40\n                Lunch break\n                \n            \n            \n                14:00\n                Poster session\n                \n            \n            \n                15:00\n                Coffee break\n                \n            \n            \n                15:20\n                Riemannian multiclass logistics regression for SPD neural networks\n                Ziheng Chen\, Yue Song\, Gaowen Liu\, Ramana Kompella\, Xiaojun Wu\, Nicu Sebe\n            \n            \n                15:40\n                Harnessing large language models for training-free video anomaly detection\n                Luca Zanella\, Willi Menapace\, Massimiliano Mancini\, Yiming Wang\, Elisa Ricci\n            \n            \n                16:00\n                MULTIFLOW: Shifting towards task-agnostic vision-language pruning\n                Matteo Farina\, Massimiliano Mancini\, Elia Cunegatti\, Gaowen Liu\, Giovanni Iacca\, Elisa Ricci\n            \n            \n                16:20\n                OpenBias: Open-set bias detection in generative model\n                Moreno D'Incà\, Elia Peruzzo\, Massimiliano Mancini\, Dejia Xu\, Vidit Goel\, Xingqian Xu\, Zhangyang Wang\, Humphrey Shi\, Nicu Sebe\n            \n            \n                16:40\n                Closing\n                Fabio Poiesi\n            \n        \n    \n\n    \n    \n        For more details\, visit our website.\n    \n\n\n\n			\n			\n				\n				\n				\n				\n			\n				\n				\n				\n				\n				\n				\n				View the official website\n			\n			\n				\n				\n				\n				\n				\n				Register here\n			\n			\n				\n				\n				\n				\n			\n				\n				\n				\n				\n				\n				\n				\n				\n				\n				\n				\n\n\n    \n    \n    \n    Event Footer\n    \n\n\n\n\n\n    \n        \n            Details\n            Date: June 12  \n            Time: 9:00 - 17:00  \n            Event Category: Symposium  \n            Website\n            Visit Event Website  \n            Organisers\n            Fondazione Bruno Kessler  \n            University of Trento  \n        \n        \n            Venue\n            Fondazione Bruno Kessler  \n            Via Sommarive 18  \n            Povo\, Trento  \n            Italy  \n            \n                \n                \n            \n            View Venue Website  \n        \n    \n\n    \n        © 2024 Event Organisation. All rights reserved.\n    \n\n\n\n\n 
URL:https://elias-ai.eu/event/cvts2024/
LOCATION:The University of Manchester\, Oxford Road\, Manchester\, Manchester\, M13 9PL\, United Kingdom
CATEGORIES:Symposium
ATTACH;FMTTYPE=image/png:https://elias-ai.eu/wp-content/uploads/2024/04/CVTS2024.png
END:VEVENT
END:VCALENDAR