BEGIN:VCALENDAR
VERSION:2.0
PRODID:-//elias-ai - ECPv6.15.20//NONSGML v1.0//EN
CALSCALE:GREGORIAN
METHOD:PUBLISH
X-WR-CALNAME:elias-ai
X-ORIGINAL-URL:https://elias-ai.eu
X-WR-CALDESC:Events for elias-ai
REFRESH-INTERVAL;VALUE=DURATION:PT1H
X-Robots-Tag:noindex
X-PUBLISHED-TTL:PT1H
BEGIN:VTIMEZONE
TZID:Europe/Rome
BEGIN:DAYLIGHT
TZOFFSETFROM:+0100
TZOFFSETTO:+0200
TZNAME:CEST
DTSTART:20250330T010000
END:DAYLIGHT
BEGIN:STANDARD
TZOFFSETFROM:+0200
TZOFFSETTO:+0100
TZNAME:CET
DTSTART:20251026T010000
END:STANDARD
BEGIN:DAYLIGHT
TZOFFSETFROM:+0100
TZOFFSETTO:+0200
TZNAME:CEST
DTSTART:20260329T010000
END:DAYLIGHT
BEGIN:STANDARD
TZOFFSETFROM:+0200
TZOFFSETTO:+0100
TZNAME:CET
DTSTART:20261025T010000
END:STANDARD
BEGIN:DAYLIGHT
TZOFFSETFROM:+0100
TZOFFSETTO:+0200
TZNAME:CEST
DTSTART:20270328T010000
END:DAYLIGHT
BEGIN:STANDARD
TZOFFSETFROM:+0200
TZOFFSETTO:+0100
TZNAME:CET
DTSTART:20271031T010000
END:STANDARD
END:VTIMEZONE
BEGIN:VEVENT
DTSTART;TZID=Europe/Rome:20260316T080000
DTEND;TZID=Europe/Rome:20260320T170000
DTSTAMP:20260421T193021
CREATED:20251223T124501Z
LAST-MODIFIED:20260130T140204Z
UID:10451-1773648000-1774026000@elias-ai.eu
SUMMARY:Winter School 2026: AI for Earth System\, Hazards & Climate Extremes
DESCRIPTION:Hosted by National Technical University of Athens (NTUA) and co-organised by ELLIS Unit Jena\, the the MeDiTwin and AI4PEX projects\, the ELLIS Winter School 2026 brings together researchers\, practitioners\, and students to explore how artificial intelligence can advance Earth system and climate science. \nWith growing urgency to understand and mitigate floods\, wildfires\, droughts\, and other extreme events\, this school aims to foster interdisciplinary collaboration and develop robust\, interpretable AI models for monitoring\, forecasting\, and impact assessment. \nThrough lectures\, tutorials\, and interactive discussions\, participants will gain hands-on experience\, exchange knowledge\, and contribute to next-generation AI-driven environmental solutions. \n			\n			\n				\n				\n				\n				\n				\n				\n				\n				\n				\n				\n			\n			\n				\n				\n				\n				\n			\n				\n				\n			\n				\n				\n				\n				\n				\n				\n				\n				\n				\n				\n				\n				\n				\n				\n				\n				\n				\n				\n					\n					\n						Who Should Attend\n						This winter school is designed for: \n\nMaster’s and PhD students\nPostdoctoral researchers\nEarly career professionals\n\nIf you are passionate about AI\, data analytics\, and environmental sciences—whether from academia\, research\, or industry—this program is for you! Eligibility details (PDF) \n  \n					\n				\n			\n			\n				\n				\n				\n				\n				\n				\n				\n				\n				\n				\n					\n					\n						Programme Highlights\n						\nApply AI to Climate Extremes: Use AI tools to model\, monitor\, and predict extreme weather and climate events in real-world scenarios.\nUnderstand and Explain Models: Learn to make AI models transparent\, physics-informed\, and causally grounded to improve trust and understanding.\nAssess and Communicate Results: Develop skills to interpret results and communicate findings to scientists\, decision-makers\, stakeholders\, and the public.\nCollaborate and Exchange Ideas: Work with experts in AI and climate science and connect with researchers from diverse backgrounds.\n\nThe full programme will be announced soon. Check here for updates \n					\n				\n			\n			\n				\n				\n				\n				\n				\n				\n				\n				\n				\n				\n					\n					\n						Registration\n						Deadline: January 2\, 2026\, 23:59 EET \nRegistration Requirements: \n\nCV (PDF\, max 2 pages)\nMotivation statement (max 1200 characters)\nImpact statement (max 1200 characters)\n\nRegister Now \n					\n				\n			\n			\n				\n				\n				\n				\n			\n				\n				\n			\n				\n				\n				\n				\n				\n				\n				\n				\n				\n				\n				\n				\n				\n				\n				\n				\n				\n				\n				\n				\n					\n				\n					Check out the official event page \n					\n				\n				\n				\n					Register now\n				\n			\n				\n			\n			\n				\n				\n				\n				\n			\n				\n				\n			\n				\n				\n				\n				\n				\n				\n				\n				\n				\n				\n				\n				\n				\n				\n				\n				\n				\n				\n\n\n    \n\n        \n        \n            Event Details\n\n            \n                Event:\n                ELLIS Winter School 2026: AI for Earth System\, Hazards & Climate Extremes\n            \n            \n                Start Date:\n                March 16\, 2026\n            \n            \n                End Date:\n                March 20\, 2026\n            \n            \n                Location:\n                NTUA – Patission Campus\n            \n            \n                Organisers:\n                NTUA\, ELLIS Unit Jena\, MeDiTwin & AI4PEX Projects\n            \n            \n                Format:\n                In-person\, hands-on\n            \n            \n                Participant Fee:\n                350 €\n            \n\n            \n                Register for the Event\n            \n        \n\n        \n        \n            Venue\n            National Technical University of Athens – Patission Campus  \n            Athens\, Greece  \n\n            \n                \n                \n            \n        \n\n    \n\n    \n        © All rights reserved. ELIAS
URL:https://elias-ai.eu/event/ai-for-earth-system-hazards-climate-extremes/
LOCATION:NTUA – Patission Campus map\, Athens\, Greece
CATEGORIES:Winter School
ATTACH;FMTTYPE=image/png:https://elias-ai.eu/wp-content/uploads/2025/12/AI-for-Earth-System-Hazards-Climate-Extremes-1.png
END:VEVENT
BEGIN:VEVENT
DTSTART;TZID=Europe/Rome:20260324T080000
DTEND;TZID=Europe/Rome:20260327T170000
DTSTAMP:20260421T193021
CREATED:20251209T141752Z
LAST-MODIFIED:20260108T111302Z
UID:10201-1774339200-1774630800@elias-ai.eu
SUMMARY:Winter School 2026: Foundation Models (FoMo)
DESCRIPTION:The Winter School aims to highlight groundbreaking innovations in foundation models across a range of subfields\, offering participants a deep understanding of how Europe is shaping its own research priorities in this rapidly evolving area. \nOver four immersive days\, participants will engage in cutting-edge lectures delivered by leading experts from academia and industry\, explore collaborative research activities\, and connect with like-minded peers who share a passion for the future of foundation models. \nThe programme features three lectures per day\, a poster session\, and interactive sessions designed to spark interdisciplinary exchange and inspire new research ideas. In addition to the academic components\, social activities will provide space for informal discussion\, networking\, and collaboration in a stimulating and inclusive environment \nMore speakers will be announced soon. Confirmed speakers to date include Frank Hutter (ELLIS Fellow\, ELLIS Institute Tübingen\, University of Freiburg)\, Elisa Ricci  (ELLIS Fellow\, University of Trento & Fondazione Bruno Kessler)\, and Ekaterina Shutova (ELLIS Scholar\, University of Amsterdam).\n			\n			\n				\n				\n				\n				\n				\n				\n				\n				\n				\n				\n			\n			\n				\n				\n				\n				\n			\n				\n				\n			\n				\n				\n				\n				\n				\n				\n				\n				\n				\n				\n				\n				\n				\n				\n				\n				\n				\n				Application\nThe 2024 FoMo Winter School brought together 150 participants representing 90 institutions and 40 nationalities. In 2025\, the event grew even further\, hosting 220 participants from 100 institutions and 43 nationalities. \nWhile preference will be given to ELLIS PhD candidates\, applications are warmly welcomed from qualified individuals worldwide. \nPlease submit your application by 14 December 2025 at 23:59 CET. Conditional results will be shared by January 2026\, and your spot will be secured once the registration fee is paid after acceptance. \nThe participation fee for the winter school are\, as follows: \n\nMSc\, PhD students and Postdoc researchers: €350\nIndustry/ startup/ other participants: €550\n\nThe fees cover logistic costs\, coffee breaks\, lunch\, and social activities (travel and accommodation are self-organized). The fee can be waived for applicants from underrepresented backgrounds who require financial assistance (see application form). Please note that registration fees can be canceled for a full refund only two weeks after the payment. \nYou can read the overview of the first ELLIS Winter School on Foundation Models in 2025 via the following link\, and in 2024 here. \n			\n				Register now!\n			\n			\n				\n				\n				\n				\n			\n				\n				\n			\n				\n				\n				\n				\n				\n				\n				\n				\n				\n				\n				\n				\n				\n				\n				\n				\n				\n				Previous Editions:\nYou can read the overview of the first ELLIS Winter School on Foundation Models in 2025 via the following link\, and in 2024 here.\n			\n				\n				\n				\n				\n				The 2026 FoMo School is hosted and funded by the ELLIS unit Amsterdam\, with the support of ELIAS – European Lighthouse of AI for Sustainability and ELLIOT – European Large Open Multi-Modal Foundation Models For Robust Generalisation On Arbitrary Data Streams Projects (funded by the European Union’s Horizon Europe research and innovation programme).\n			\n			\n				\n				\n				\n				\n			\n				\n				\n				\n				\n				\n				\n				\n				\n				\n				\n				\n\n\n    \n\n        \n   \n    Event Details\n\n    \n        Event:\n        Winter School on Foundation Models (FoMo) 2026\n    \n    \n        Start Date:\n        March 24\, 2026 at 09:00\n    \n    \n        End Date:\n        March 27\, 2026 at 17:00\n    \n    \n        Organisers:\n        Cees Snoek\, Yuki Asano\, Adela Pranindiati\n    \n\n    \n        Register for the Event\n    \n\n\n\n        \n        \n            Venue\n            Tolhuistuin  \n            Amsterdam\, Netherlands  \n\n            \n                \n                \n            \n        \n\n    \n\n    \n        © All rights reserved.
URL:https://elias-ai.eu/event/fomo-2026/
CATEGORIES:Winter School
ATTACH;FMTTYPE=image/png:https://elias-ai.eu/wp-content/uploads/2025/12/Fomo-2026.png
END:VEVENT
BEGIN:VEVENT
DTSTART;TZID=Europe/Rome:20260401T140000
DTEND;TZID=Europe/Rome:20260401T150000
DTSTAMP:20260421T193021
CREATED:20260318T113902Z
LAST-MODIFIED:20260318T140431Z
UID:11173-1775052000-1775055600@elias-ai.eu
SUMMARY:ELIAS #2 Open Call : Q&A Session
DESCRIPTION:\n					\n						What to expect\n						\nOverview of objectives\, scope\, and funding\nEvaluation criteria and success factors\nPractical tips for a strong proposal\nCommon pitfalls to avoid\nLive Q&A with the ELIAS team\n\n					\n				\n			\n			\n				\n				\n				\n				\n				\n				\n				\n				\n				\n				\n					\n					\n						Who should attend\n						\n\n\nSMEs and startups\nNGOs and non-profits\nAI and digital innovation teams\nApplicants preparing a proposal\n\n\n\n					\n				\n			\n			\n				\n				\n				\n				\n			\n				\n				\n				\n				\n				\n				\n				\n				\n				\n				\n				\n					\n					\n						About the session\n						This webinar will provide a concise overview of the Open Call\, including its objectives\, scope\, funding opportunities\, and evaluation criteria. Participants will gain practical insights on how to structure a competitive proposal\, align their project with ELIAS priorities in sustainable and trustworthy AI\, and demonstrate meaningful impact. A dedicated Q&A segment will allow attendees to engage directly with the ELIAS team and receive clarifications on eligibility\, submission\, and project fit. \nLearn more about the Winners of the previous edition: ELIAS Open Call Winners\n					\n				\n			\n			\n				\n				\n				\n				\n			\n				\n				\n				\n				\n				\n				\n				\n				\n				\n				\n				Have questions about your application? Join the session and connect directly with the ELIAS team.\n				\n			\n				\n				\n				\n				\n				\n				\n				\n					\n				\n					Join Webinar \n					\n				\n				\n				\n					ELIAS #2 oPEN CALL
URL:https://elias-ai.eu/event/elias-2-open-call-qa-session/
ATTACH;FMTTYPE=image/png:https://elias-ai.eu/wp-content/uploads/2026/03/ELIAS_OpenCall_2-9.png
END:VEVENT
BEGIN:VEVENT
DTSTART;TZID=Europe/Rome:20260727T090000
DTEND;TZID=Europe/Rome:20260730T170000
DTSTAMP:20260421T193021
CREATED:20260420T135504Z
LAST-MODIFIED:20260420T142223Z
UID:11358-1785142800-1785430800@elias-ai.eu
SUMMARY:ELLIS Doctoral Symposium 2026 on Trustworthy AI
DESCRIPTION:The ELLIS Doctoral Symposium (EDS) is back this summer for its sixth edition in the vibrant city of Lisbon\, Portugal! From July 27 to 30\, immerse yourself in an exciting week of cutting-edge scientific discussions\, valuable networking opportunities\, and a chance to experience Portugal’s warm and welcoming culture. \n🎓 What is EDS? \nThe ELLIS Doctoral Symposium is the highlight of the year for the ELLIS PhD Program\, gathering ELLIS PhD students alongside others in the field for an enriching exchange of knowledge in machine learning. The theme for EDS 202 is “Trustworthy AI.”  \n👥 What to Expect? \nThe symposium provides a platform for young researchers to present their work\, exchange ideas\, and engage in discussions on the future of AI\, particularly in creating future AI systems that are reliable\, safe\, and adaptable. Through a series of talks\, panels\, poster sessions\, and networking opportunities\, EDS 2026 will promote collaboration and innovation in the field of AI\, helping to shape the next generation of AI researchers.  \nFirst registration round is currently open and accepting submissions until April 26th\, 2026. \n			\n			\n				\n				\n				\n				\n				\n				\n				\n				\n				\n				\n			\n			\n				\n				\n				\n				\n			\n				\n				\n				\n				\n				\n				\n				\n				\n				\n				\n				Programme\n			\n				\n				\n				\n				\n				\n\n\n\n\n\n\n\n\n\n\n\n\n\n\n\n\n27 July (Day 1)\n\n\n\n\n\n\n\nTime\n\n\nDuration\n\n\nSession Name\n\n\n\n\n\n\n\n12:30–13:30\n\n\n1 hour\n\n\nRegistration\n\n\n\n\n\n\n\n13:30–14:00\n\n\n30 mins\n\n\n\n Welcome remarks\n Mario Figueiredo\, ELLIS Unit Lisbon Director & ELLIS Fellow\n\n\n\n\n\n\n\n\n14:00–15:00\n\n\n1 hour\n\n\n\n Keynote\n André Martins\, ELLIS Fellow and Co-Director of the ELLIS NLP Program\n\n\n\n\n\n\n\n\n15:00–16:00\n\n\n1 hour\n\n\n\n Opening Keynote\n Asja Fischer\, ELLIS Scholar and member of the Theory\, Algorithms and Computations ELLIS Program\n\n\n\n\n\n\n\n\n16:00–18:00\n\n\n2 hours\n\n\nOpening Poster Session\n\n\n\n\n\n\n\n17:00–19:00\n\n\n2 hours\n\n\nWelcome Reception\n\n\n\n\n\n\n\n\n28 July (Day 2)\n\n\n\n\n\n\n\nTime\n\n\nDuration\n\n\nSession Name\n\n\n\n\n\n\n\n09:00–10:00\n\n\n1 hour\n\n\n\n Early Career Talks\n Marcos Treviso\, ELLIS Unit Lisbon Faculty\nCatarina Barata\, ELLIS Scholar\n\n\n\n\n\n\n\n\n10:00–11:00\n\n\n1 hour\n\n\n\n Keynote\n Desmond Elliott\, ELLIS Unit Copenhagen\n\n\n\n\n\n\n\n\n11:00–11:30\n\n\n30 mins\n\n\nCoffee Break\n\n\n\n\n\n\n\n11:30–12:30\n\n\n1 hour\n\n\n\n Keynote\n Pedro Bizarro\, Chief Scientific Officer\, Feedzai\n\n\n\n\n\n\n\n\n12:30–14:00\n\n\n1.5 hours\n\n\nLunch\n\n\n\n\n\n\n\n14:00–14:30\n\n\n30 mins\n\n\nIndustry Pitch Talks\n\n\n\n\n\n\n\n14:30–15:15\n\n\n45 mins\n\n\n\n Career Development Panel: Academia & Industry\n Various speakers\n\n\n\n\n\n\n\n\n15:15–16:00\n\n\n45 mins\n\n\nPhD Lightning Talks\n\n\n\n\n\n\n\n16:00–18:00\n\n\n2 hours\n\n\n\n Posters\n Drinks & Nibbles will be served\n\n\n\n\n\n\n\n\n19:00–20:00\n\n\n1 hour\n\n\nOptional social event\n\n\n\n\n\n\n\n\n29 July (Day 3)\n\n\n\n\n\n\n\nTime\n\n\nDuration\n\n\nSession Name\n\n\n\n\n\n\n\n09:00–10:00\n\n\n1 hour\n\n\n\n Early Career Talks\n Emanuel Gonçalves\, ELLIS Scholar\nZita Marinho\, ELLIS Unit Lisbon Faculty\n\n\n\n\n\n\n\n\n10:00–11:00\n\n\n1 hour\n\n\n\n Keynote\n Gustau Camps-Valls\, ELLIS Fellow and Co-Director of ELLIS Earth and Climate Sciences Program\n\n\n\n\n\n\n\n\n11:00–11:30\n\n\n30 mins\n\n\nCoffee Break\n\n\n\n\n\n\n\n11:30–14:30\n\n\n3 hours\n\n\nIndustry Fair\n\n\n\n\n\n\n\n12:30–14:00\n\n\n1.5 hours\n\n\nLunch\n\n\n\n\n\n\n\n14:30–15:00\n\n\n30 mins\n\n\nPhD Lightning Talks\n\n\n\n\n\n\n\n15:00–16:00\n\n\n1 hour\n\n\n\n Local Keynote\n Ana Paiva\, ELLIS Fellow\n\n\n\n\n\n\n\n\n16:00–18:00\n\n\n2 hours\n\n\n\n Posters\n Drinks & Nibbles will be served\n\n\n\n\n\n\n\n\n19:00–22:00\n\n\n3 hours\n\n\n\n Gala Dinner\n Casa do Alentejo\n\n\n\n\n\n\n\n\n\n30 July (Day 4)\n\n\n\n\n\n\n\nTime\n\n\nDuration\n\n\nSession Name\n\n\n\n\n\n\n\n09:15–11:00\n\n\n1 hour 45 mins\n\n\nPhD lightning talks\n\n\n\n\n\n\n\n11:00–11:30\n\n\n30 mins\n\n\nCoffee Break\n\n\n\n\n\n\n\n11:30–12:30\n\n\n1 hour\n\n\n\n Keynote\n João Santinha\, Champalimaud Foundation\n\n\n\n\n\n\n\n\n12:30–14:00\n\n\n1.5 hours\n\n\nLunch\n\n\n\n\n\n\n\n14:00–15:00\n\n\n1 hour\n\n\n\n Closing Keynote\n Isabel Valera\, ELLIS Fellow and member of the Robust ML Program\n\n\n\n\n\n\n\n\n15:00–15:30\n\n\n30 mins\n\n\nGroup photo\n\n\n\n\n\n\n\n15:30–16:00\n\n\n30 mins\n\n\n\n Closing remarks\, announcement of poster winners\, announcement of next EDS location\n Isabel Trancoso\, ELLIS Fellow and ELLIS Unit Lisbon member\n\n\n\n\n\n\n\n\n\n\n\n\n N.B. Please note that the program is currently in development and is subject to minor changes. The program will be updated regularly.\n\n\n\n\n\n\n\n			\n				\n				\n				\n				\n				\n			\n			\n				\n				\n				\n				\n			\n				\n				\n			\n				\n				\n				\n				\n				\n				\n				\n				\n				\n				\n				\n				\n				\n				\n				\n				\n				\n				\n					\n					\n						General Information\n						EDS is open to all ELLIS PhDs and postdocs\, as well as PhD students of ELLIS Fellows/Scholars/Members who are not part of the ELLIS PhD program. Students who are not from the ELLIS network may only apply during the second round\, pending space availability.  \nCapacity is limited to 200 participants. The organisers will prioritise students from the ELLIS network\, and those who are early in their PhDs.  \nThe participation fee for the ELLIS Doctoral Symposium 2026 is 150 EUR per person. The fee covers access to all conference sessions\, coffee breaks\, lunches\, and social events.  \n					\n				\n			\n			\n				\n				\n				\n				\n			\n				\n				\n				\n				\n				\n				\n				\n				\n				\n				\n				\n					\n					\n						Poster Instructions\n						All participants are encouraged to submit a poster – this is the best way to promote your research and get feedback from your peers.  \nPosters must represent original research (published or unpublished) conducted by the author(s) and can be printed in A0 or A1\, portrait only. At registration\, you will be asked to submit a preliminary title which will be used in the poster booklet.  \nYou must print your poster yourself. If you want to print your poster in Lisbon you can use one of the following shops close to the venue:  \nhttp://www.zoomcopia.com/ – Address: Rua Dona Filipa de Vilhena 34A\, Lisbon \nCopitec – Centro de Cópias – Address: Alameda Dom Afonso Henriques 43B\, Lisbon \n					\n				\n			\n			\n				\n				\n				\n				\n			\n				\n				\n				\n				\n				\n				\n				\n				\n				\n				\n				\n					\n					\n						V. Important Dates\n						\nRegistration opens for ELLIS PhD students: 2nd March 2026\nFirst registration round deadline: 26th April 2026\nFirst acceptance notification: 5th May 2026\nRegistration opens for all students: 5th May 2026\nRegistration closes for all: 31st May 2026\nFinal acceptance notifications: 5th June 2026\nFinal payment deadline for all accepted students: 15th June 2026\n\n					\n				\n			\n			\n				\n				\n				\n				\n			\n				\n				\n			\n				\n				\n				\n				\n				\n				\n				\n				\n				\n				\n				\n				\n				\n				\n				\n				\n				\n				\n					\n					\n						Registration Form\n						To apply\, please complete the following registration form by the indicated deadline above.  \n					\n				\n			\n			\n				\n				\n				\n				\n				\n				Register here\n			\n			\n				\n				\n				\n				\n			\n				\n				\n				\n				\n				\n				\n				\n				\n				\n				\n				EDS Mobility Grants\nStudents may be eligible for travel funding through the following option: \nELIAS Mobility Program: ELLIS PhDs/postdocs whose applications to EDS2026 have been successfully accepted can apply to this funding. The funding is distributed on a ‘first come\, first served’ basis until the allocated mobility funds for this event run out. \n\nEDS26 Mobility grant (guidelines)\nEDS26 Mobility Grant (ELIAS) Application\nEDS26 Reimbursement Report (ELIAS Beneficiary)\nEDS26 Reimbursement Report (Externals)\n\nFor any questions regarding the ELIAS mobility grant\, please contact: phd@ellis.eu \nELIZA Mobility Program: ELLIS PhD students are eligible for this mobility grant only if they are based in one of the following ELIZA sites: Berlin\, Darmstadt\, Freiburg\, Heidelberg\, München\, Saarbrücken\, Tübingen.  \nTo apply\, please go here.  \n  \n			\n			\n				\n				\n				\n				\n			\n				\n				\n				\n				\n				\n				\n				\n				\n				\n				\n				Learn More\n\nEDS 2026 Official Website\nSummary of Last Year’s EDS Event\nLearn About the ELLIS PhD Program\n\n			\n			\n				\n				\n				\n				\n			\n				\n				\n				\n				\n				\n				\n				\n				\n				\n				\n				\n\n\n    \n        \n        \n            Details\n            Start: July 27\, 2026  \n            End: July 30\, 2026  \n            Event Categories: Symposium\, PhD Training  \n            Event Tags: #eds2026\, #TrustworthyAI\, #ELLIS  \n\n            Website\n            Visit Event Website  \n\n            Organisers\n            ELLIS Unit Lisbon & Instituto Superior Técnico (ULisboa)  \n        \n\n        \n            Venue\n            Instituto Superior Técnico  \n            University of Lisbon  \n            Av. Rovisco Pais 1\, 1049-001 Lisbon\, Portugal  \n\n            Location\n            The symposium will be hosted at the Alameda campus of IST\, centrally located in Lisbon. The venue is a hub for technology and innovation\, easily accessible via the Metro (Alameda or Saldanha stations).  \n\n            \n                \n                \n            \n        \n    \n\n    \n        © 2026 ELLIS Doctoral Symposium Lisbon. All rights reserved.\n    \n\n			\n			\n				\n				\n				\n				\n			\n				\n				\n			\n				\n				\n				\n				\n				\n				\n				\n				\n				\n				\n				\n				\n				\n					\n					\n					\n					\n					\n						\n						\n							\n								Latest News\nOpportunities\nEvents\n\n							\n							\n							\n							\n				\n					\n				\n			\n						\n						\n					\n				\n				\n				\n				\n				\n				\n\nRecent articles\n\n\n\nProtected: Insights from TDW: Building the Foundations of Trustworthy AI\nELIAS Open Call for SMEs\, Startups & NGOs\nCall for Applications: Join the ELIAS Virtual Centre of Excellence\nELIAS at EurIPS 2025: Rethinking AI for a Sustainable Future\nAI in Science Summit 2025: Europe Signals Ambition\, Urgency\, and Unity in AI for Science\n\n\n\n\n\n			\n			\n				\n				\n				\n				\n				\n				\n				\n				\n				\n				\n					\n						Search for:\n						\n						\n						\n						\n						\n						\n					\n				\n			\n			\n				\n				\n				\n				\n			\n				\n				\n			\n				\n				\n				\n				\n				\n				\n				\n				\n				\n				\n				\n				\n				\n				\n				\n				\n				\n				\n			\n			[/et_pb_column]\n				\n				\n				\n				\n			\n				\n				\n			\n				\n				\n				\n				\n				\n				\n				\n				\n				\n				\n				\n				\n				\n				\n				\n				\n				\n				\n			\n			[/et_pb_column]\n				\n				\n				\n				\n			\n				\n				\n			\n				\n				\n				\n				\n				\n				\n				\n				\n				\n				\n				\n				\n				\n				\n				\n				\n				\n				\n			\n			[/et_pb_column]
URL:https://elias-ai.eu/event/eds2026-trustworthy-ai/
LOCATION:Instituto Superior Técnico\, Lisbon\, Portugal
CATEGORIES:Symposium
ATTACH;FMTTYPE=image/png:https://elias-ai.eu/wp-content/uploads/2026/04/eds2026-2.png
END:VEVENT
END:VCALENDAR