BEGIN:VCALENDAR
VERSION:2.0
PRODID:-//elias-ai - ECPv6.15.20//NONSGML v1.0//EN
CALSCALE:GREGORIAN
METHOD:PUBLISH
X-WR-CALNAME:elias-ai
X-ORIGINAL-URL:https://elias-ai.eu
X-WR-CALDESC:Events for elias-ai
REFRESH-INTERVAL;VALUE=DURATION:PT1H
X-Robots-Tag:noindex
X-PUBLISHED-TTL:PT1H
BEGIN:VTIMEZONE
TZID:Europe/Rome
BEGIN:DAYLIGHT
TZOFFSETFROM:+0100
TZOFFSETTO:+0200
TZNAME:CEST
DTSTART:20230326T010000
END:DAYLIGHT
BEGIN:STANDARD
TZOFFSETFROM:+0200
TZOFFSETTO:+0100
TZNAME:CET
DTSTART:20231029T010000
END:STANDARD
BEGIN:DAYLIGHT
TZOFFSETFROM:+0100
TZOFFSETTO:+0200
TZNAME:CEST
DTSTART:20240331T010000
END:DAYLIGHT
BEGIN:STANDARD
TZOFFSETFROM:+0200
TZOFFSETTO:+0100
TZNAME:CET
DTSTART:20241027T010000
END:STANDARD
BEGIN:DAYLIGHT
TZOFFSETFROM:+0100
TZOFFSETTO:+0200
TZNAME:CEST
DTSTART:20250330T010000
END:DAYLIGHT
BEGIN:STANDARD
TZOFFSETFROM:+0200
TZOFFSETTO:+0100
TZNAME:CET
DTSTART:20251026T010000
END:STANDARD
END:VTIMEZONE
BEGIN:VEVENT
DTSTART;TZID=Europe/Rome:20240306T160000
DTEND;TZID=Europe/Rome:20240306T170000
DTSTAMP:20260421T175756
CREATED:20240227T071115Z
LAST-MODIFIED:20240905T125212Z
UID:2821-1709740800-1709744400@elias-ai.eu
SUMMARY:CLAIRE X NoEs AQuA: Women in AI
DESCRIPTION:The CLAIRE All Questions Answered (AQuA) Series continues with a collaborative online discussion involving the AI Networks of Excellence (NoEs) – this time featuring great Women in AI in the spotlight! \nWomen account for less than 25% of AI specialists. Let’s shine a light on some of the excellent female researchers in the AI field\, their successes\, but also some of the obstacles they face as workers in this male-dominated field. \nWe will explore some of the pivotal stages and points in the careers of women when deciding and working in the area of AI\, thus both early-stage female researchers as well as established female leaders in the AI field will be ready to answer all of the questions. \nJoin us for one hour online and don’t be shy – all questions will be answered! \n			\n			\n				\n				\n				\n				\n				\n				\n				\n				\n				\n				\n			\n			\n				\n				\n				\n				\n			\n				\n				\n				\n				\n				\n				\n				\n				\n				\n				\n				\n				\n			\n				\n				\n				\n				\n				  \nThis event is organised under CLAIRE by CLAIRE | Prague\, CLAIRE | Zurich\, VISION and Networks of Excellence Centres (NoEs)\, in particular: \n\nELIAS\, ENFIELD\, euROBIN\, AI4Media\, HumanE-AI-Net\n\n			\n				\n				\n				\n				\n				\n\n\n    \n    \n    \n    Event Footer\n    \n\n\n\n\n\n    \n        \n        \n            Details\n            Date: March 6  \n            Time: 16:00 - 17:00  \n            Event Tags: #AImadeinEurope\, #IWD2024\, #WomeninScience\, #WomeninSTEM\, WomeninAI  \n            Website\n            Watch on YouTube  \n            Organiser\n            AI NoEs  \n            \n                \n                    Add to Calendar\n                \n            \n        \n\n        \n        \n            Venue\n            Location: ONLINE  \n        \n    \n\n    \n        © 2024 AI NoEs. All rights reserved.
URL:https://elias-ai.eu/event/claire-x-noes-aqua-women-in-ai/
LOCATION:ONLINE
ATTACH;FMTTYPE=image/png:https://elias-ai.eu/wp-content/uploads/2024/02/CLAIRE_AQuA_WomenAI_06032024.png
END:VEVENT
END:VCALENDAR